BEGIN:VCALENDAR
VERSION:2.0
PRODID:-//Focales
CALSCALE:GREGORIAN
METHOD:PUBLISH
X-WR-CALNAME:Focales
X-ORIGINAL-URL:https://focales.org/16es-rencontres-des-acteurs-de-leducation-a-limage/
X-WR-CALDESC:16es RENCONTRES DES ACTEURS DE L&rsquo;ÉDUCATION À L&rsquo;IMAGE
BEGIN:VEVENT
DTSTART:20170619T093000
DTEND:20170623T120000
SUMMARY:16es RENCONTRES DES ACTEURS DE L&rsquo;ÉDUCATION À L&rsquo;IMAGE
DESCRIPTION:
LOCATION:La Jetée - Clermont-Ferrand
END:VEVENT
END:VCALENDAR
