BEGIN:VCALENDAR
VERSION:2.0
PRODID:-//Focales
CALSCALE:GREGORIAN
METHOD:PUBLISH
X-WR-CALNAME:Focales
X-ORIGINAL-URL:https://focales.org/dernieres-nouvelles-du-cosmos-en-presence-de-la-realisatrice/
X-WR-CALDESC:DERNIÈRES NOUVELLES DU COSMOS EN PRÉSENCE DE LA RÉALISATRICE
BEGIN:VEVENT
DTSTART:20170515T200000
DTEND:20170515T230000
SUMMARY:DERNIÈRES NOUVELLES DU COSMOS EN PRÉSENCE DE LA RÉALISATRICE
DESCRIPTION:
LOCATION:Clermont-Ferrand, Cinéma le Rio
END:VEVENT
END:VCALENDAR
