BEGIN:VCALENDAR
VERSION:2.0
PRODID:-//Focales
CALSCALE:GREGORIAN
METHOD:PUBLISH
X-WR-CALNAME:Focales
X-ORIGINAL-URL:https://focales.org/ateliers-stop-motion-en-mediatheque-2/
X-WR-CALDESC:ATELIER STOP MOTION EN MÉDIATHÈQUE
BEGIN:VEVENT
DTSTART:20170222T000000
DTEND:20170222T000000
SUMMARY:ATELIER STOP MOTION EN MÉDIATHÈQUE
DESCRIPTION:
LOCATION:9 Place Louis Aragon, 63000 Clermont-Ferrand
END:VEVENT
END:VCALENDAR
