BEGIN:VCALENDAR
VERSION:2.0
PRODID:-//Focales
CALSCALE:GREGORIAN
METHOD:PUBLISH
X-WR-CALNAME:Focales
X-ORIGINAL-URL:https://focales.org/atelier-valises-animees-4-2/
X-WR-CALDESC:ATELIER VALISES ANIMÉES CROUS
BEGIN:VEVENT
DTSTART:20170215T180000
DTEND:20170215T223000
SUMMARY:ATELIER VALISES ANIMÉES CROUS
DESCRIPTION:
LOCATION:25 rue Etienne Dolet – 63037 Clermont-Ferrand Cedex 1
END:VEVENT
END:VCALENDAR
