BEGIN:VCALENDAR
VERSION:2.0
PRODID:-//Focales
CALSCALE:GREGORIAN
METHOD:PUBLISH
X-WR-CALNAME:Focales
X-ORIGINAL-URL:https://focales.org/le-concours-en-presence-de-la-realisatrice/
X-WR-CALDESC:LE CONCOURS EN PRÉSENCE DE LA RÉALISATRICE
BEGIN:VEVENT
DTSTART:20170217T200000
DTEND:20170217T230000
SUMMARY:LE CONCOURS EN PRÉSENCE DE LA RÉALISATRICE
DESCRIPTION:
LOCATION:32 Place de Jaude, 63000 Clermont-Ferrand
END:VEVENT
END:VCALENDAR
