BEGIN:VCALENDAR
VERSION:2.0
PRODID:-//Focales
CALSCALE:GREGORIAN
METHOD:PUBLISH
X-WR-CALNAME:Focales
X-ORIGINAL-URL:https://focales.org/cine-concert-nanouk-lesquimau/
X-WR-CALDESC:CINÉ-CONCERT NANOUK L&rsquo;ESQUIMAU
BEGIN:VEVENT
DTSTART:20170315T160000
DTEND:20170315T173000
SUMMARY:CINÉ-CONCERT NANOUK L&rsquo;ESQUIMAU
DESCRIPTION:
LOCATION: Avenue Hector Peschaud, 15300 Murat
END:VEVENT
END:VCALENDAR
