BEGIN:VCALENDAR
VERSION:2.0
PRODID:-//Focales
CALSCALE:GREGORIAN
METHOD:PUBLISH
X-WR-CALNAME:Focales
X-ORIGINAL-URL:https://focales.org/cine-concert-nanouk-lesquimau-2/
X-WR-CALDESC:CINÉ-CONCERT NANOUK L&rsquo;ESQUIMAU
BEGIN:VEVENT
DTSTART:20170314T140000
DTEND:20170314T223000
SUMMARY:CINÉ-CONCERT NANOUK L&rsquo;ESQUIMAU
DESCRIPTION:
LOCATION:Rue du 8 Mai, 15200 Mauriac
END:VEVENT
END:VCALENDAR
