BEGIN:VCALENDAR
VERSION:2.0
PRODID:-//Focales
CALSCALE:GREGORIAN
METHOD:PUBLISH
X-WR-CALNAME:Focales
X-ORIGINAL-URL:https://focales.org/ateliers-stop-motion-en-mediatheque-3/
X-WR-CALDESC:ATELIER STOP MOTION EN MÉDIATHÈQUE
BEGIN:VEVENT
DTSTART:20170225T143000
DTEND:20170225T180000
SUMMARY:ATELIER STOP MOTION EN MÉDIATHÈQUE
DESCRIPTION:
LOCATION:21 rue René Brut - 63110 Beaumont 
END:VEVENT
END:VCALENDAR
