BEGIN:VCALENDAR
VERSION:2.0
PRODID:-//Focales
CALSCALE:GREGORIAN
METHOD:PUBLISH
X-WR-CALNAME:Focales
X-ORIGINAL-URL:https://focales.org/atelier-pellicule-grattee-en-mediatheque/
X-WR-CALDESC:ATELIER PELLICULE GRATTÉE EN MÉDIATHÈQUE
BEGIN:VEVENT
DTSTART:20170224T143000
DTEND:20170224T170000
SUMMARY:ATELIER PELLICULE GRATTÉE EN MÉDIATHÈQUE
DESCRIPTION:
LOCATION:Place Alexandre Vialatte, 63100 Clermont-Ferrand
END:VEVENT
END:VCALENDAR
