BEGIN:VCALENDAR
VERSION:2.0
PRODID:-//Focales
CALSCALE:GREGORIAN
METHOD:PUBLISH
X-WR-CALNAME:Focales
X-ORIGINAL-URL:https://focales.org/atelier-pellicule-grattee-en-mediatheque-2/
X-WR-CALDESC:ATELIER PELLICULE GRATTÉE EN MÉDIATHÈQUE
BEGIN:VEVENT
DTSTART:20170221T140000
DTEND:20170221T170000
SUMMARY:ATELIER PELLICULE GRATTÉE EN MÉDIATHÈQUE
DESCRIPTION:
LOCATION:9 Place Louis Aragon, 63000 Clermont-Ferrand
END:VEVENT
END:VCALENDAR
