BEGIN:VCALENDAR
VERSION:2.0
PRODID:-//Focales
CALSCALE:GREGORIAN
METHOD:PUBLISH
X-WR-CALNAME:Focales
X-ORIGINAL-URL:https://focales.org/atelier-suede-harry-potter/
X-WR-CALDESC:ATELIER SUÉDÉ HARRY POTTER
BEGIN:VEVENT
DTSTART:20170301T140000
DTEND:20170303T170000
SUMMARY:ATELIER SUÉDÉ HARRY POTTER
DESCRIPTION:
LOCATION: Place Alexandre Vialatte, 63100 Clermont-Ferrand
END:VEVENT
END:VCALENDAR
