BEGIN:VCALENDAR
VERSION:2.0
PRODID:-//Focales
CALSCALE:GREGORIAN
METHOD:PUBLISH
X-WR-CALNAME:Focales
X-ORIGINAL-URL:https://focales.org/la-caravane-ensorcelee-cinema-ambulant/
X-WR-CALDESC:LA CARAVANE ENSORCELÉE, CINÉMA AMBULANT
BEGIN:VEVENT
DTSTART:20170221T000000
DTEND:20170225T000000
SUMMARY:LA CARAVANE ENSORCELÉE, CINÉMA AMBULANT
DESCRIPTION:
LOCATION:
END:VEVENT
END:VCALENDAR
