BEGIN:VCALENDAR
VERSION:2.0
PRODID:-//Focales
CALSCALE:GREGORIAN
METHOD:PUBLISH
X-WR-CALNAME:Focales
X-ORIGINAL-URL:https://focales.org/decouverte-du-pre-cinema/
X-WR-CALDESC:DÉCOUVERTE DU PRÉ-CINÉMA
BEGIN:VEVENT
DTSTART:20170225T140000
DTEND:20170225T153000
SUMMARY:DÉCOUVERTE DU PRÉ-CINÉMA
DESCRIPTION:
LOCATION:Rue Pierre-Jacquet - 63800 Cournon d'Auvergne
END:VEVENT
END:VCALENDAR
