BEGIN:VCALENDAR
VERSION:2.0
PRODID:-//Focales
CALSCALE:GREGORIAN
METHOD:PUBLISH
X-WR-CALNAME:Focales
X-ORIGINAL-URL:https://focales.org/installation-cine-le-cinema-de-georges/
X-WR-CALDESC:INSTALLATION CINÉ : LE CINÉMA DE GEORGES
BEGIN:VEVENT
DTSTART:20170221T000000
DTEND:20170225T000000
SUMMARY:INSTALLATION CINÉ : LE CINÉMA DE GEORGES
DESCRIPTION:
LOCATION:Rue Pierre-Jacquet - 63800 Cournon d'Auvergne
END:VEVENT
END:VCALENDAR
