BEGIN:VCALENDAR
VERSION:2.0
PRODID:-//Focales
CALSCALE:GREGORIAN
METHOD:PUBLISH
X-WR-CALNAME:Focales
X-ORIGINAL-URL:https://focales.org/installation-cine-le-cinema-de-georges-2/
X-WR-CALDESC:INSTALLATION CINÉ : LE CINÉMA DE GEORGES
BEGIN:VEVENT
DTSTART:20170228T000000
DTEND:20170304T000000
SUMMARY:INSTALLATION CINÉ : LE CINÉMA DE GEORGES
DESCRIPTION:
LOCATION:81 Rue des Jonquilles, 63112 Blanzat
END:VEVENT
END:VCALENDAR
