BEGIN:VCALENDAR
VERSION:2.0
PRODID:-//Focales
CALSCALE:GREGORIAN
METHOD:PUBLISH
X-WR-CALNAME:Focales
X-ORIGINAL-URL:https://focales.org/proust-lu-123-h-43-min-51-s/
X-WR-CALDESC:PROUST LU, 123 h, 43 min, 51 s
BEGIN:VEVENT
DTSTART:20170206T000000
DTEND:20170210T000000
SUMMARY:PROUST LU, 123 h, 43 min, 51 s
DESCRIPTION:
LOCATION:25 Rue Kessler, 63000 Clermont-Ferrand
END:VEVENT
END:VCALENDAR
