BEGIN:VCALENDAR
VERSION:2.0
PRODID:-//Focales
CALSCALE:GREGORIAN
METHOD:PUBLISH
X-WR-CALNAME:Focales
X-ORIGINAL-URL:https://focales.org/parcours-de-cinema-en-festival/
X-WR-CALDESC:PARCOURS DE CINÉMA EN FESTIVAL
BEGIN:VEVENT
DTSTART:20170203T000000
DTEND:20170211T000000
SUMMARY:PARCOURS DE CINÉMA EN FESTIVAL
DESCRIPTION:
LOCATION:
END:VEVENT
END:VCALENDAR
