BEGIN:VCALENDAR
VERSION:2.0
PRODID:-//Focales
CALSCALE:GREGORIAN
METHOD:PUBLISH
X-WR-CALNAME:Focales
X-ORIGINAL-URL:https://focales.org/rio-2-clermont-ferrand/
X-WR-CALDESC:RIO 2
BEGIN:VEVENT
DTSTART:20150703T221500
DTEND:20150703T235700
SUMMARY:RIO 2
DESCRIPTION:
LOCATION:45.8002791 3.1169523
END:VEVENT
END:VCALENDAR
