BEGIN:VCALENDAR
VERSION:2.0
PRODID:-//Focales
CALSCALE:GREGORIAN
METHOD:PUBLISH
X-WR-CALNAME:Focales
X-ORIGINAL-URL:https://focales.org/journee-detude-ouverte-art-et-rugby/
X-WR-CALDESC:JOURNÉE D&rsquo;ÉTUDE OUVERTE : ART ET RUGBY
BEGIN:VEVENT
DTSTART:20170309T090000
DTEND:20170309T180000
SUMMARY:JOURNÉE D&rsquo;ÉTUDE OUVERTE : ART ET RUGBY
DESCRIPTION:
LOCATION:25 Rue Kessler, 63000 Clermont-Ferrand
END:VEVENT
END:VCALENDAR
