BEGIN:VCALENDAR
VERSION:2.0
PRODID:-//Focales
CALSCALE:GREGORIAN
METHOD:PUBLISH
X-WR-CALNAME:Focales
X-ORIGINAL-URL:https://focales.org/videoformes-2017-seances-scolaires/
X-WR-CALDESC:VIDÉOFORMES 2017 : SÉANCES SCOLAIRES
BEGIN:VEVENT
DTSTART:20170315T000000
DTEND:20170318T000000
SUMMARY:VIDÉOFORMES 2017 : SÉANCES SCOLAIRES
DESCRIPTION:
LOCATION:La Diode – 190-194 boulevard Gustave Flaubert 63000 CLERMONT-FERRAND
END:VEVENT
END:VCALENDAR
