BEGIN:VCALENDAR
VERSION:2.0
PRODID:-//Focales
CALSCALE:GREGORIAN
METHOD:PUBLISH
X-WR-CALNAME:Focales
X-ORIGINAL-URL:https://focales.org/16e-semaine-du-cinema-hispanique/
X-WR-CALDESC:16e SEMAINE DU CINÉMA HISPANIQUE
BEGIN:VEVENT
DTSTART:20170328T000000
DTEND:20170404T000000
SUMMARY:16e SEMAINE DU CINÉMA HISPANIQUE
DESCRIPTION:
LOCATION:Clermont-Ferrand
END:VEVENT
END:VCALENDAR
