BEGIN:VCALENDAR
VERSION:2.0
PRODID:-//Focales
CALSCALE:GREGORIAN
METHOD:PUBLISH
X-WR-CALNAME:Focales
X-ORIGINAL-URL:https://focales.org/atelier-flipbook-en-mediatheque/
X-WR-CALDESC:ATELIER FLIPBOOK EN MÉDIATHÈQUE
BEGIN:VEVENT
DTSTART:20170302T143000
DTEND:20170302T163000
SUMMARY:ATELIER FLIPBOOK EN MÉDIATHÈQUE
DESCRIPTION:
LOCATION:9 Place Louis Aragon, 63000 Clermont-Ferrand
END:VEVENT
END:VCALENDAR
