BEGIN:VCALENDAR
VERSION:2.0
PRODID:-//Focales
CALSCALE:GREGORIAN
METHOD:PUBLISH
X-WR-CALNAME:Focales
X-ORIGINAL-URL:https://focales.org/carnet-de-naufrage-en-presence-de-la-realisatrice/
X-WR-CALDESC:CARNET DE NAUFRAGE EN PRÉSENCE DE LA RÉALISATRICE
BEGIN:VEVENT
DTSTART:20170321T203000
DTEND:20170321T234500
SUMMARY:CARNET DE NAUFRAGE EN PRÉSENCE DE LA RÉALISATRICE
DESCRIPTION:
LOCATION:UFR Lettre, Sciences Humaines, 29 Boulevard Gergovia, 63000 Clermont-Ferrand
END:VEVENT
END:VCALENDAR
