BEGIN:VCALENDAR
VERSION:2.0
PRODID:-//Focales
CALSCALE:GREGORIAN
METHOD:PUBLISH
X-WR-CALNAME:Focales
X-ORIGINAL-URL:https://focales.org/chronique-dune-cour-de-recre-en-presence-du-realisateur/
X-WR-CALDESC:CHRONIQUE D&rsquo;UNE COUR DE RÉCRÉ EN PRÉSENCE DU RÉALISATEUR
BEGIN:VEVENT
DTSTART:20170314T200000
DTEND:20170314T223000
SUMMARY:CHRONIQUE D&rsquo;UNE COUR DE RÉCRÉ EN PRÉSENCE DU RÉALISATEUR
DESCRIPTION:
LOCATION:178 rue Sous les Vignes  Clermont-Ferrand, 63100 France
END:VEVENT
END:VCALENDAR
