BEGIN:VCALENDAR
VERSION:2.0
PRODID:-//Focales
CALSCALE:GREGORIAN
METHOD:PUBLISH
X-WR-CALNAME:Focales
X-ORIGINAL-URL:https://focales.org/dragons-2-moulins/
X-WR-CALDESC:DRAGONS 2
BEGIN:VEVENT
DTSTART:20150706T221500
DTEND:20150706T235800
SUMMARY:DRAGONS 2
DESCRIPTION:
LOCATION:46.5809318 3.3325544
END:VEVENT
END:VCALENDAR
