BEGIN:VCALENDAR
VERSION:2.0
PRODID:-//Focales
CALSCALE:GREGORIAN
METHOD:PUBLISH
X-WR-CALNAME:Focales
X-ORIGINAL-URL:https://focales.org/alentejo-alentejo-en-presence-du-realisateur/
X-WR-CALDESC:ALENTEJO ALENTEJO EN PRÉSENCE DU RÉALISATEUR
BEGIN:VEVENT
DTSTART:20170420T200000
DTEND:20170420T223000
SUMMARY:ALENTEJO ALENTEJO EN PRÉSENCE DU RÉALISATEUR
DESCRIPTION:
LOCATION:Clermont-Ferrand, Cinéma le Rio
END:VEVENT
END:VCALENDAR
