BEGIN:VCALENDAR
VERSION:2.0
PRODID:-//Focales
CALSCALE:GREGORIAN
METHOD:PUBLISH
X-WR-CALNAME:Focales
X-ORIGINAL-URL:https://focales.org/paris-la-blanche-en-presence-de-la-realisatrice/
X-WR-CALDESC:PARIS LA BLANCHE EN PRÉSENCE DE LA RÉALISATRICE
BEGIN:VEVENT
DTSTART:20170504T203000
DTEND:20170504T223000
SUMMARY:PARIS LA BLANCHE EN PRÉSENCE DE LA RÉALISATRICE
DESCRIPTION:
LOCATION:Montluçon, Cinéma le Palace
END:VEVENT
END:VCALENDAR
