BEGIN:VCALENDAR
VERSION:2.0
PRODID:-//Focales
CALSCALE:GREGORIAN
METHOD:PUBLISH
X-WR-CALNAME:Focales
X-ORIGINAL-URL:https://focales.org/spectacle-de-lanterne-magique/
X-WR-CALDESC:SPECTACLES DE LANTERNE MAGIQUE
BEGIN:VEVENT
DTSTART:20170531T190000
DTEND:20170601T113000
SUMMARY:SPECTACLES DE LANTERNE MAGIQUE
DESCRIPTION:
LOCATION:15 place de la République 63150 La Bourboule
END:VEVENT
END:VCALENDAR
