BEGIN:VCALENDAR
VERSION:2.0
PRODID:-//Focales
CALSCALE:GREGORIAN
METHOD:PUBLISH
X-WR-CALNAME:Focales
X-ORIGINAL-URL:https://focales.org/avant-premiere-de-jia-en-presence-du-realisateur/
X-WR-CALDESC:AVANT-PREMIÈRE DE JIA EN PRÉSENCE DES RÉALISATEURS
BEGIN:VEVENT
DTSTART:20170503T190000
DTEND:20170503T200000
SUMMARY:AVANT-PREMIÈRE DE JIA EN PRÉSENCE DES RÉALISATEURS
DESCRIPTION:
LOCATION:Clermont-Ferrand, la Jetée
END:VEVENT
END:VCALENDAR
