BEGIN:VCALENDAR
VERSION:2.0
PRODID:-//Focales
CALSCALE:GREGORIAN
METHOD:PUBLISH
X-WR-CALNAME:Focales
X-ORIGINAL-URL:https://focales.org/15e-edition-du-festival-plein-la-bobine/
X-WR-CALDESC:15e ÉDITION DU FESTIVAL PLEIN LA BOBINE
BEGIN:VEVENT
DTSTART:20170527T000000
DTEND:20170602T000000
SUMMARY:15e ÉDITION DU FESTIVAL PLEIN LA BOBINE
DESCRIPTION:
LOCATION:Casino Municipal Quai Gambetta 63150 La Bourboule
END:VEVENT
END:VCALENDAR
