BEGIN:VCALENDAR
VERSION:2.0
PRODID:-//Focales
CALSCALE:GREGORIAN
METHOD:PUBLISH
X-WR-CALNAME:Focales
X-ORIGINAL-URL:https://focales.org/minuscule-la-vallee-des-fourmis-perdus-cournon-dauvergne/
X-WR-CALDESC:MINUSCULE &#8211; LA VALLÉE DES FOURMIS PERDUES
BEGIN:VEVENT
DTSTART:20150708T221500
DTEND:20150708T235000
SUMMARY:MINUSCULE &#8211; LA VALLÉE DES FOURMIS PERDUES
DESCRIPTION:
LOCATION:45.7305611 3.1924342
END:VEVENT
END:VCALENDAR
