BEGIN:VCALENDAR
VERSION:2.0
PRODID:-//Focales
CALSCALE:GREGORIAN
METHOD:PUBLISH
X-WR-CALNAME:Focales
X-ORIGINAL-URL:https://focales.org/atelier-educmedia-nous-citoyens/
X-WR-CALDESC:ATELIER EDUC&rsquo;MÉDIA « NOUS CITOYENS »
BEGIN:VEVENT
DTSTART:20170513T103000
DTEND:20170513T123000
SUMMARY:ATELIER EDUC&rsquo;MÉDIA « NOUS CITOYENS »
DESCRIPTION:
LOCATION:Gerzat, Médiathèque Alphonse-Daudet
END:VEVENT
END:VCALENDAR
