BEGIN:VCALENDAR
VERSION:2.0
PRODID:-//Focales
CALSCALE:GREGORIAN
METHOD:PUBLISH
X-WR-CALNAME:Focales
X-ORIGINAL-URL:https://focales.org/soiree-jeunes-realisateurs-suc-uca/
X-WR-CALDESC:SOIRÉE JEUNES RÉALISATEURS SUC-UCA
BEGIN:VEVENT
DTSTART:20170510T190000
DTEND:20170510T220000
SUMMARY:SOIRÉE JEUNES RÉALISATEURS SUC-UCA
DESCRIPTION:
LOCATION:Résidence universitaire Philippe-Lebon, 28 boulevard Côté blatin, clermont-ferrand
END:VEVENT
END:VCALENDAR
