BEGIN:VCALENDAR
VERSION:2.0
PRODID:-//Focales
CALSCALE:GREGORIAN
METHOD:PUBLISH
X-WR-CALNAME:Focales
X-ORIGINAL-URL:https://focales.org/avant-premiere-le-maitre-est-lenfant/
X-WR-CALDESC:AVANT-PREMIÈRE LE MAÎTRE EST L&rsquo;ENFANT
BEGIN:VEVENT
DTSTART:20170516T200000
DTEND:20170516T220000
SUMMARY:AVANT-PREMIÈRE LE MAÎTRE EST L&rsquo;ENFANT
DESCRIPTION:
LOCATION:Clermont-Ferrand, Cinéma le Rio
END:VEVENT
END:VCALENDAR
