BEGIN:VCALENDAR
VERSION:2.0
PRODID:-//Focales
CALSCALE:GREGORIAN
METHOD:PUBLISH
X-WR-CALNAME:Focales
X-ORIGINAL-URL:https://focales.org/journees-panorama-enjeux-et-perspectives-des-arts-visuels-en-auvergne-rhone-alpes/
X-WR-CALDESC:JOURNÉES PANORAMA : ENJEUX ET PERSPECTIVES DES ARTS VISUELS EN RÉGION AURA
BEGIN:VEVENT
DTSTART:20170629T000000
DTEND:20170630T000000
SUMMARY:JOURNÉES PANORAMA : ENJEUX ET PERSPECTIVES DES ARTS VISUELS EN RÉGION AURA
DESCRIPTION:
LOCATION:Clermont-Ferrand, ESACM
END:VEVENT
END:VCALENDAR
