BEGIN:VCALENDAR
VERSION:2.0
PRODID:-//Focales
CALSCALE:GREGORIAN
METHOD:PUBLISH
X-WR-CALNAME:Focales
X-ORIGINAL-URL:https://focales.org/velotopia-avermes/
X-WR-CALDESC:VÉLOTOPIA
BEGIN:VEVENT
DTSTART:20150710T220000
DTEND:
SUMMARY:VÉLOTOPIA
DESCRIPTION:
LOCATION:46.5801570 3.3164665
END:VEVENT
END:VCALENDAR
