BEGIN:VCALENDAR
VERSION:2.0
PRODID:-//Focales
CALSCALE:GREGORIAN
METHOD:PUBLISH
X-WR-CALNAME:Focales
X-ORIGINAL-URL:https://focales.org/plein-air-lage-de-glace-5/
X-WR-CALDESC:PLEIN AIR &#8211; L&rsquo;ÂGE DE GLACE 5
BEGIN:VEVENT
DTSTART:20170711T223000
DTEND:20170711T234500
SUMMARY:PLEIN AIR &#8211; L&rsquo;ÂGE DE GLACE 5
DESCRIPTION:
LOCATION:rue des hirondelles, 03100 Montluçon
END:VEVENT
END:VCALENDAR
