BEGIN:VCALENDAR
VERSION:2.0
PRODID:-//Focales
CALSCALE:GREGORIAN
METHOD:PUBLISH
X-WR-CALNAME:Focales
X-ORIGINAL-URL:https://focales.org/le-destin-place-victoire-clermont-contresplongees/
X-WR-CALDESC:LE DESTIN
BEGIN:VEVENT
DTSTART:20150804T213000
DTEND:20150804T234500
SUMMARY:LE DESTIN
DESCRIPTION:
LOCATION:Clermont-Ferrand, Place de la Victoire
END:VEVENT
END:VCALENDAR
