BEGIN:VCALENDAR
VERSION:2.0
PRODID:-//Focales
CALSCALE:GREGORIAN
METHOD:PUBLISH
X-WR-CALNAME:Focales
X-ORIGINAL-URL:https://focales.org/plein-air-belle-et-sebastien-laventure-continue/
X-WR-CALDESC:PLEIN AIR &#8211; BELLE ET SÉBASTIEN : L&rsquo;AVENTURE CONTINUE
BEGIN:VEVENT
DTSTART:20170628T220000
DTEND:20170628T234500
SUMMARY:PLEIN AIR &#8211; BELLE ET SÉBASTIEN : L&rsquo;AVENTURE CONTINUE
DESCRIPTION:
LOCATION:parc helitas, 15000 Aurillac
END:VEVENT
END:VCALENDAR
