BEGIN:VCALENDAR
VERSION:2.0
PRODID:-//Focales
CALSCALE:GREGORIAN
METHOD:PUBLISH
X-WR-CALNAME:Focales
X-ORIGINAL-URL:https://focales.org/plein-air-la-famille-belier-2/
X-WR-CALDESC:PLEIN AIR &#8211; LA FAMILLE BÉLIER
BEGIN:VEVENT
DTSTART:20170727T220000
DTEND:20170727T234500
SUMMARY:PLEIN AIR &#8211; LA FAMILLE BÉLIER
DESCRIPTION:
LOCATION:1 Place de la Mairie 03140 Monestier France
END:VEVENT
END:VCALENDAR
