BEGIN:VCALENDAR
VERSION:2.0
PRODID:-//Focales
CALSCALE:GREGORIAN
METHOD:PUBLISH
X-WR-CALNAME:Focales
X-ORIGINAL-URL:https://focales.org/plein-air-les-minions/
X-WR-CALDESC:PLEIN AIR &#8211; LES MINIONS 2
BEGIN:VEVENT
DTSTART:20230825T213000
DTEND:20230825T230000
SUMMARY:PLEIN AIR &#8211; LES MINIONS 2
DESCRIPTION:
LOCATION:Stade Vernadal, Ceyrat
END:VEVENT
END:VCALENDAR
