BEGIN:VCALENDAR
VERSION:2.0
PRODID:-//Focales
CALSCALE:GREGORIAN
METHOD:PUBLISH
X-WR-CALNAME:Focales
X-ORIGINAL-URL:https://focales.org/plein-air-les-minions-2/
X-WR-CALDESC:PLEIN AIR &#8211; LES MINIONS
BEGIN:VEVENT
DTSTART:20170713T220000
DTEND:20170713T233000
SUMMARY:PLEIN AIR &#8211; LES MINIONS
DESCRIPTION:
LOCATION:Rue George Sand 63000 Clermont-Ferrand France
END:VEVENT
END:VCALENDAR
