BEGIN:VCALENDAR
VERSION:2.0
PRODID:-//Focales
CALSCALE:GREGORIAN
METHOD:PUBLISH
X-WR-CALNAME:Focales
X-ORIGINAL-URL:https://focales.org/plein-air-vice-versa/
X-WR-CALDESC:PLEIN AIR &#8211; VICE-VERSA
BEGIN:VEVENT
DTSTART:20170712T220000
DTEND:20170712T234500
SUMMARY:PLEIN AIR &#8211; VICE-VERSA
DESCRIPTION:
LOCATION:avenue des isles, 03000 avermes
END:VEVENT
END:VCALENDAR
