BEGIN:VCALENDAR
VERSION:2.0
PRODID:-//Focales
CALSCALE:GREGORIAN
METHOD:PUBLISH
X-WR-CALNAME:Focales
X-ORIGINAL-URL:https://focales.org/plein-air-vice-versa-2/
X-WR-CALDESC:PLEIN AIR &#8211; VICE-VERSA
BEGIN:VEVENT
DTSTART:20170816T213000
DTEND:20170816T231500
SUMMARY:PLEIN AIR &#8211; VICE-VERSA
DESCRIPTION:
LOCATION:Chateau De La Motte 5 Rue de la Bascule, 03500 Louchy-Montfand, France
END:VEVENT
END:VCALENDAR
