BEGIN:VCALENDAR
VERSION:2.0
PRODID:-//Focales
CALSCALE:GREGORIAN
METHOD:PUBLISH
X-WR-CALNAME:Focales
X-ORIGINAL-URL:https://focales.org/plein-air-vice-versa-3/
X-WR-CALDESC:PLEIN AIR &#8211; VICE-VERSA
BEGIN:VEVENT
DTSTART:20170710T220000
DTEND:20170710T234500
SUMMARY:PLEIN AIR &#8211; VICE-VERSA
DESCRIPTION:
LOCATION:Croix-De-Neyrat, Clermont-Ferrand, France Maison de quartier
END:VEVENT
END:VCALENDAR
