BEGIN:VCALENDAR
VERSION:2.0
PRODID:-//Focales
CALSCALE:GREGORIAN
METHOD:PUBLISH
X-WR-CALNAME:Focales
X-ORIGINAL-URL:https://focales.org/plein-air-la-vache/
X-WR-CALDESC:PLEIN AIR &#8211; LA VACHE
BEGIN:VEVENT
DTSTART:20170713T220000
DTEND:20170713T233000
SUMMARY:PLEIN AIR &#8211; LA VACHE
DESCRIPTION:
LOCATION:rue du plessis, 03400 yzeure
END:VEVENT
END:VCALENDAR
