BEGIN:VCALENDAR
VERSION:2.0
PRODID:-//Focales
CALSCALE:GREGORIAN
METHOD:PUBLISH
X-WR-CALNAME:Focales
X-ORIGINAL-URL:https://focales.org/plein-air-la-vache-2/
X-WR-CALDESC:PLEIN AIR &#8211; LA VACHE
BEGIN:VEVENT
DTSTART:20170717T214500
DTEND:20170717T233000
SUMMARY:PLEIN AIR &#8211; LA VACHE
DESCRIPTION:
LOCATION:98 rue du var, 63000 Clermont-Ferrand
END:VEVENT
END:VCALENDAR
