BEGIN:VCALENDAR
VERSION:2.0
PRODID:-//Focales
CALSCALE:GREGORIAN
METHOD:PUBLISH
X-WR-CALNAME:Focales
X-ORIGINAL-URL:https://focales.org/plein-air-slumdog-millionaire/
X-WR-CALDESC:PLEIN AIR &#8211; SLUMDOG MILLIONAIRE
BEGIN:VEVENT
DTSTART:20170520T220000
DTEND:20170520T234500
SUMMARY:PLEIN AIR &#8211; SLUMDOG MILLIONAIRE
DESCRIPTION:
LOCATION:https://www.google.fr/maps/place/Rue+du+Stade,+03800+Mazerier/@46.1297645,3.1890829,268m/data=!3m1!1e3!4m5!3m4!1s0x47f72afe87ee0461:0x19519e20e5557606!8m2!3d46.1304476!4d3.187739?hl=fr
END:VEVENT
END:VCALENDAR
