BEGIN:VCALENDAR
VERSION:2.0
PRODID:-//Focales
CALSCALE:GREGORIAN
METHOD:PUBLISH
X-WR-CALNAME:Focales
X-ORIGINAL-URL:https://focales.org/plein-air-kung-fu-panda-3/
X-WR-CALDESC:PLEIN AIR &#8211; KUNG FU PANDA 3
BEGIN:VEVENT
DTSTART:20170707T220000
DTEND:20170707T234500
SUMMARY:PLEIN AIR &#8211; KUNG FU PANDA 3
DESCRIPTION:
LOCATION:la fontaine du bac, 63000 clermont-ferrand
END:VEVENT
END:VCALENDAR
