BEGIN:VCALENDAR
VERSION:2.0
PRODID:-//Focales
CALSCALE:GREGORIAN
METHOD:PUBLISH
X-WR-CALNAME:Focales
X-ORIGINAL-URL:https://focales.org/plein-air-vice-versa-4/
X-WR-CALDESC:PLEIN AIR &#8211; VICE-VERSA
BEGIN:VEVENT
DTSTART:20170809T213000
DTEND:20170809T230000
SUMMARY:PLEIN AIR &#8211; VICE-VERSA
DESCRIPTION:
LOCATION:58 Avenue de la Libération, 63800 Cournon-d'Auvergne, France
END:VEVENT
END:VCALENDAR
